Package: AnVILPublish Version: 1.16.0 Command: /home/biocbuild/R/R/bin/R CMD check --install=check:AnVILPublish.install-out.txt --library=/home/biocbuild/R/R/site-library --no-vignettes --timings AnVILPublish_1.16.0.tar.gz StartedAt: 2025-04-01 03:53:44 -0000 (Tue, 01 Apr 2025) EndedAt: 2025-04-01 03:54:36 -0000 (Tue, 01 Apr 2025) EllapsedTime: 51.1 seconds RetCode: 0 Status: OK CheckDir: AnVILPublish.Rcheck Warnings: 0