Package: AnVILGCP Version: 1.0.0 Command: chmod a+r AnVILGCP -R && F:\biocbuild\bbs-3.20-bioc\R\bin\R.exe CMD build --keep-empty-dirs --no-resave-data AnVILGCP StartedAt: 2025-03-31 17:22:03 -0400 (Mon, 31 Mar 2025) EndedAt: 2025-03-31 17:22:50 -0400 (Mon, 31 Mar 2025) EllapsedTime: 46.9 seconds RetCode: 0 Status: OK PackageFile: AnVILGCP_1.0.0.tar.gz PackageFileSize: 420.4 KiB