Package: AnVILGCP Version: 1.0.0 Command: /Library/Frameworks/R.framework/Resources/bin/R CMD check --install=check:AnVILGCP.install-out.txt --library=/Library/Frameworks/R.framework/Resources/library --no-vignettes --timings AnVILGCP_1.0.0.tar.gz StartedAt: 2025-04-01 10:52:05 -0400 (Tue, 01 Apr 2025) EndedAt: 2025-04-01 10:52:49 -0400 (Tue, 01 Apr 2025) EllapsedTime: 43.9 seconds RetCode: 0 Status: OK CheckDir: AnVILGCP.Rcheck Warnings: 0