Package: AnVILAz Version: 1.0.0 Command: /home/biocbuild/R/R/bin/R CMD build --keep-empty-dirs --no-resave-data AnVILAz StartedAt: 2025-03-31 21:21:50 -0000 (Mon, 31 Mar 2025) EndedAt: 2025-03-31 21:22:00 -0000 (Mon, 31 Mar 2025) EllapsedTime: 10.0 seconds RetCode: 0 Status: OK PackageFile: AnVILAz_1.0.0.tar.gz PackageFileSize: 959.6 KiB