Package: AnVILAz Version: 1.0.0 Command: /Library/Frameworks/R.framework/Resources/bin/R CMD INSTALL AnVILAz StartedAt: 2025-03-31 15:11:25 -0400 (Mon, 31 Mar 2025) EndedAt: 2025-03-31 15:11:51 -0400 (Mon, 31 Mar 2025) EllapsedTime: 25.6 seconds RetCode: 0 Status: OK