Package: AnVILAz Version: 1.0.0 Command: rm -rf AnVILAz.buildbin-libdir && mkdir AnVILAz.buildbin-libdir && /Users/biocbuild/BBS/utils/build-universal.sh AnVILAz_1.0.0.tar.gz /Library/Frameworks/R.framework/Resources/bin/R AnVILAz.buildbin-libdir StartedAt: 2025-04-01 11:24:58 -0400 (Tue, 01 Apr 2025) EndedAt: 2025-04-01 11:25:09 -0400 (Tue, 01 Apr 2025) EllapsedTime: 11.1 seconds RetCode: 0 Status: OK PackageFile: AnVILAz_1.0.0.tgz PackageFileSize: 830.4 KiB