Package: AnVIL Version: 1.18.5 Command: F:\biocbuild\bbs-3.20-bioc\R\bin\R.exe CMD check --no-multiarch --install=check:AnVIL.install-out.txt --library=F:\biocbuild\bbs-3.20-bioc\R\library --no-vignettes --timings AnVIL_1.18.5.tar.gz StartedAt: 2025-03-31 22:55:37 -0400 (Mon, 31 Mar 2025) EndedAt: 2025-03-31 22:56:41 -0400 (Mon, 31 Mar 2025) EllapsedTime: 64.3 seconds RetCode: 0 Status: OK CheckDir: AnVIL.Rcheck Warnings: 0