Package: AnVIL Version: 1.18.5 Command: rm -rf AnVIL.buildbin-libdir && mkdir AnVIL.buildbin-libdir && /Users/biocbuild/BBS/utils/build-universal.sh AnVIL_1.18.5.tar.gz /Library/Frameworks/R.framework/Resources/bin/R AnVIL.buildbin-libdir StartedAt: 2025-04-01 11:24:57 -0400 (Tue, 01 Apr 2025) EndedAt: 2025-04-01 11:25:15 -0400 (Tue, 01 Apr 2025) EllapsedTime: 17.9 seconds RetCode: 0 Status: OK PackageFile: AnVIL_1.18.5.tgz PackageFileSize: 1.171 MiB