Package: AlpsNMR Version: 4.8.0 Command: /home/biocbuild/R/R/bin/R CMD build --keep-empty-dirs --no-resave-data AlpsNMR StartedAt: 2025-03-31 21:19:31 -0000 (Mon, 31 Mar 2025) EndedAt: 2025-03-31 21:21:42 -0000 (Mon, 31 Mar 2025) EllapsedTime: 131.1 seconds RetCode: 1 Status: ERROR PackageFile: None PackageFileSize: NA