Package: AlpsNMR Version: 4.8.0 Command: /home/biocbuild/bbs-3.20-bioc/R/bin/R CMD build --keep-empty-dirs --no-resave-data --md5 AlpsNMR StartedAt: 2025-03-31 16:09:34 -0400 (Mon, 31 Mar 2025) EndedAt: 2025-03-31 16:11:26 -0400 (Mon, 31 Mar 2025) EllapsedTime: 112.2 seconds RetCode: 0 Status: OK PackageFile: AlpsNMR_4.8.0.tar.gz PackageFileSize: 3.705 MiB