Package: AlpsNMR Version: 4.8.0 Command: rm -rf AlpsNMR.buildbin-libdir && mkdir AlpsNMR.buildbin-libdir && /Users/biocbuild/BBS/utils/build-universal.sh AlpsNMR_4.8.0.tar.gz /Library/Frameworks/R.framework/Resources/bin/R AlpsNMR.buildbin-libdir StartedAt: 2025-04-01 11:23:57 -0400 (Tue, 01 Apr 2025) EndedAt: 2025-04-01 11:24:29 -0400 (Tue, 01 Apr 2025) EllapsedTime: 32.2 seconds RetCode: 0 Status: OK PackageFile: AlpsNMR_4.8.0.tgz PackageFileSize: 4.185 MiB