Package: AlpsNMR Version: 4.8.0 Command: rm -rf AlpsNMR.buildbin-libdir && mkdir AlpsNMR.buildbin-libdir && /Users/biocbuild/BBS/utils/build-universal.sh AlpsNMR_4.8.0.tar.gz /Library/Frameworks/R.framework/Resources/bin/R AlpsNMR.buildbin-libdir StartedAt: 2025-04-02 13:16:38 -0400 (Wed, 02 Apr 2025) EndedAt: 2025-04-02 13:16:55 -0400 (Wed, 02 Apr 2025) EllapsedTime: 17.1 seconds RetCode: 0 Status: OK PackageFile: AlpsNMR_4.8.0.tgz PackageFileSize: 4.184 MiB