Package: AlphaMissenseR Version: 1.2.0 Command: F:\biocbuild\bbs-3.20-bioc\R\bin\R.exe CMD INSTALL AlphaMissenseR StartedAt: 2025-03-31 15:38:51 -0400 (Mon, 31 Mar 2025) EndedAt: 2025-03-31 15:39:38 -0400 (Mon, 31 Mar 2025) EllapsedTime: 46.6 seconds RetCode: 0 Status: OK