Package: AlphaBeta Version: 1.20.0 Command: /home/biocbuild/R/R/bin/R CMD INSTALL AlphaBeta StartedAt: 2025-03-31 20:45:00 -0000 (Mon, 31 Mar 2025) EndedAt: 2025-03-31 20:45:17 -0000 (Mon, 31 Mar 2025) EllapsedTime: 17.3 seconds RetCode: 0 Status: OK