Package: AlphaBeta Version: 1.20.0 Command: /home/biocbuild/R/R/bin/R CMD check --install=check:AlphaBeta.install-out.txt --library=/home/biocbuild/R/R/site-library --no-vignettes --timings AlphaBeta_1.20.0.tar.gz StartedAt: 2025-04-01 03:48:04 -0000 (Tue, 01 Apr 2025) EndedAt: 2025-04-01 03:59:33 -0000 (Tue, 01 Apr 2025) EllapsedTime: 689.4 seconds RetCode: 0 Status: OK CheckDir: AlphaBeta.Rcheck Warnings: 0