Package: AlphaBeta Version: 1.20.0 Command: /home/biocbuild/R/R/bin/R CMD build --keep-empty-dirs --no-resave-data AlphaBeta StartedAt: 2025-03-31 21:19:26 -0000 (Mon, 31 Mar 2025) EndedAt: 2025-03-31 21:26:12 -0000 (Mon, 31 Mar 2025) EllapsedTime: 405.2 seconds RetCode: 0 Status: OK PackageFile: AlphaBeta_1.20.0.tar.gz PackageFileSize: 2.473 MiB