Package: AlphaBeta Version: 1.20.0 Command: /home/biocbuild/bbs-3.20-bioc/R/bin/R CMD INSTALL AlphaBeta StartedAt: 2025-03-31 15:36:46 -0400 (Mon, 31 Mar 2025) EndedAt: 2025-03-31 15:36:57 -0400 (Mon, 31 Mar 2025) EllapsedTime: 11.7 seconds RetCode: 0 Status: OK