Package: AlphaBeta Version: 1.20.0 Command: /Library/Frameworks/R.framework/Resources/bin/R CMD check --install=check:AlphaBeta.install-out.txt --library=/Library/Frameworks/R.framework/Resources/library --no-vignettes --timings AlphaBeta_1.20.0.tar.gz StartedAt: 2025-03-31 23:14:09 -0400 (Mon, 31 Mar 2025) EndedAt: 2025-03-31 23:33:26 -0400 (Mon, 31 Mar 2025) EllapsedTime: 1157.0 seconds RetCode: 0 Status: OK CheckDir: AlphaBeta.Rcheck Warnings: 0