Package: AlphaBeta Version: 1.20.0 Command: /Library/Frameworks/R.framework/Resources/bin/R CMD build --keep-empty-dirs --no-resave-data AlphaBeta StartedAt: 2025-03-31 16:51:04 -0400 (Mon, 31 Mar 2025) EndedAt: 2025-03-31 17:05:08 -0400 (Mon, 31 Mar 2025) EllapsedTime: 844.2 seconds RetCode: 0 Status: OK PackageFile: AlphaBeta_1.20.0.tar.gz PackageFileSize: 2.476 MiB