Package: AlphaBeta Version: 1.20.0 Command: /Library/Frameworks/R.framework/Resources/bin/R CMD check --install=check:AlphaBeta.install-out.txt --library=/Library/Frameworks/R.framework/Resources/library --no-vignettes --timings AlphaBeta_1.20.0.tar.gz StartedAt: 2025-04-01 10:33:53 -0400 (Tue, 01 Apr 2025) EndedAt: 2025-04-01 10:40:59 -0400 (Tue, 01 Apr 2025) EllapsedTime: 426.3 seconds RetCode: 0 Status: OK CheckDir: AlphaBeta.Rcheck Warnings: 0