Package: AllelicImbalance Version: 1.44.0 Command: /home/biocbuild/R/R/bin/R CMD build --keep-empty-dirs --no-resave-data AllelicImbalance StartedAt: 2025-03-31 21:19:20 -0000 (Mon, 31 Mar 2025) EndedAt: 2025-03-31 21:22:11 -0000 (Mon, 31 Mar 2025) EllapsedTime: 171.1 seconds RetCode: 0 Status: OK PackageFile: AllelicImbalance_1.44.0.tar.gz PackageFileSize: 767.3 KiB