Package: AllelicImbalance Version: 1.44.0 Command: chmod a+r AllelicImbalance -R && F:\biocbuild\bbs-3.20-bioc\R\bin\R.exe CMD build --keep-empty-dirs --no-resave-data AllelicImbalance StartedAt: 2025-03-31 17:18:08 -0400 (Mon, 31 Mar 2025) EndedAt: 2025-03-31 17:23:58 -0400 (Mon, 31 Mar 2025) EllapsedTime: 349.4 seconds RetCode: 0 Status: OK PackageFile: AllelicImbalance_1.44.0.tar.gz PackageFileSize: 766.9 KiB