Package: AllelicImbalance Version: 1.44.0 Command: /Library/Frameworks/R.framework/Resources/bin/R CMD build --keep-empty-dirs --no-resave-data AllelicImbalance StartedAt: 2025-03-31 16:51:01 -0400 (Mon, 31 Mar 2025) EndedAt: 2025-03-31 16:56:27 -0400 (Mon, 31 Mar 2025) EllapsedTime: 325.8 seconds RetCode: 0 Status: OK PackageFile: AllelicImbalance_1.44.0.tar.gz PackageFileSize: 773.1 KiB