Package: AllelicImbalance Version: 1.44.0 Command: rm -rf AllelicImbalance.buildbin-libdir && mkdir AllelicImbalance.buildbin-libdir && /Users/biocbuild/BBS/utils/build-universal.sh AllelicImbalance_1.44.0.tar.gz /Library/Frameworks/R.framework/Resources/bin/R AllelicImbalance.buildbin-libdir StartedAt: 2025-04-02 13:16:18 -0400 (Wed, 02 Apr 2025) EndedAt: 2025-04-02 13:17:30 -0400 (Wed, 02 Apr 2025) EllapsedTime: 71.8 seconds RetCode: 0 Status: OK PackageFile: AllelicImbalance_1.44.0.tgz PackageFileSize: 1.227 MiB