Package: AgiMicroRna Version: 2.56.0 Command: /Library/Frameworks/R.framework/Resources/bin/R CMD check --install=check:AgiMicroRna.install-out.txt --library=/Library/Frameworks/R.framework/Resources/library --no-vignettes --timings AgiMicroRna_2.56.0.tar.gz StartedAt: 2025-03-31 23:09:49 -0400 (Mon, 31 Mar 2025) EndedAt: 2025-03-31 23:22:56 -0400 (Mon, 31 Mar 2025) EllapsedTime: 786.9 seconds RetCode: 0 Status: WARNINGS CheckDir: AgiMicroRna.Rcheck Warnings: 1