Package: AgiMicroRna Version: 2.56.0 Command: /Library/Frameworks/R.framework/Resources/bin/R CMD INSTALL AgiMicroRna StartedAt: 2025-03-31 17:38:19 -0400 (Mon, 31 Mar 2025) EndedAt: 2025-03-31 17:39:34 -0400 (Mon, 31 Mar 2025) EllapsedTime: 74.3 seconds RetCode: 0 Status: OK