Package: AgiMicroRna Version: 2.56.0 Command: /Library/Frameworks/R.framework/Resources/bin/R CMD build --keep-empty-dirs --no-resave-data AgiMicroRna StartedAt: 2025-03-31 18:29:04 -0400 (Mon, 31 Mar 2025) EndedAt: 2025-03-31 18:31:36 -0400 (Mon, 31 Mar 2025) EllapsedTime: 152.4 seconds RetCode: 0 Status: OK PackageFile: AgiMicroRna_2.56.0.tar.gz PackageFileSize: 3.067 MiB