Package: AgiMicroRna Version: 2.56.0 Command: rm -rf AgiMicroRna.buildbin-libdir && mkdir AgiMicroRna.buildbin-libdir && /Users/biocbuild/BBS/utils/build-universal.sh AgiMicroRna_2.56.0.tar.gz /Library/Frameworks/R.framework/Resources/bin/R AgiMicroRna.buildbin-libdir StartedAt: 2025-04-02 13:14:21 -0400 (Wed, 02 Apr 2025) EndedAt: 2025-04-02 13:15:43 -0400 (Wed, 02 Apr 2025) EllapsedTime: 82.7 seconds RetCode: 0 Status: OK PackageFile: AgiMicroRna_2.56.0.tgz PackageFileSize: 3.523 MiB