Package: AffyRNADegradation Version: 1.52.0 Command: chmod a+r AffyRNADegradation -R && F:\biocbuild\bbs-3.20-bioc\R\bin\R.exe CMD build --keep-empty-dirs --no-resave-data AffyRNADegradation StartedAt: 2025-03-31 17:16:21 -0400 (Mon, 31 Mar 2025) EndedAt: 2025-03-31 17:18:43 -0400 (Mon, 31 Mar 2025) EllapsedTime: 142.1 seconds RetCode: 0 Status: OK PackageFile: AffyRNADegradation_1.52.0.tar.gz PackageFileSize: 274.1 KiB