Package: AffyRNADegradation Version: 1.52.0 Command: /Library/Frameworks/R.framework/Resources/bin/R CMD build --keep-empty-dirs --no-resave-data AffyRNADegradation StartedAt: 2025-03-31 18:28:32 -0400 (Mon, 31 Mar 2025) EndedAt: 2025-03-31 18:29:59 -0400 (Mon, 31 Mar 2025) EllapsedTime: 87.0 seconds RetCode: 0 Status: OK PackageFile: AffyRNADegradation_1.52.0.tar.gz PackageFileSize: 365.1 KiB