Package: ATACseqTFEA Version: 1.8.0 Command: /home/biocbuild/R/R/bin/R CMD INSTALL ATACseqTFEA StartedAt: 2025-03-31 20:36:07 -0000 (Mon, 31 Mar 2025) EndedAt: 2025-03-31 20:37:03 -0000 (Mon, 31 Mar 2025) EllapsedTime: 56.6 seconds RetCode: 0 Status: OK