Package: ATACseqTFEA Version: 1.8.0 Command: /home/biocbuild/R/R/bin/R CMD check --install=check:ATACseqTFEA.install-out.txt --library=/home/biocbuild/R/R/site-library --no-vignettes --timings ATACseqTFEA_1.8.0.tar.gz StartedAt: 2025-04-01 03:58:12 -0000 (Tue, 01 Apr 2025) EndedAt: 2025-04-01 04:07:27 -0000 (Tue, 01 Apr 2025) EllapsedTime: 555.0 seconds RetCode: 0 Status: OK CheckDir: ATACseqTFEA.Rcheck Warnings: 0