Package: ATACseqTFEA Version: 1.8.0 Command: rm -rf ATACseqTFEA.buildbin-libdir && mkdir ATACseqTFEA.buildbin-libdir && F:\biocbuild\bbs-3.20-bioc\R\bin\R.exe CMD INSTALL --build --library=ATACseqTFEA.buildbin-libdir ATACseqTFEA_1.8.0.tar.gz StartedAt: 2025-04-01 07:41:44 -0400 (Tue, 01 Apr 2025) EndedAt: 2025-04-01 07:43:04 -0400 (Tue, 01 Apr 2025) EllapsedTime: 79.6 seconds RetCode: 0 Status: OK PackageFile: ATACseqTFEA_1.8.0.zip PackageFileSize: 4.785 MiB