Package: ATACseqTFEA Version: 1.8.0 Command: /home/biocbuild/bbs-3.20-bioc/R/bin/R CMD INSTALL ATACseqTFEA StartedAt: 2025-03-31 15:28:45 -0400 (Mon, 31 Mar 2025) EndedAt: 2025-03-31 15:29:28 -0400 (Mon, 31 Mar 2025) EllapsedTime: 42.9 seconds RetCode: 0 Status: OK