Package: ATACseqTFEA Version: 1.8.0 Command: /Library/Frameworks/R.framework/Resources/bin/R CMD INSTALL ATACseqTFEA StartedAt: 2025-03-31 15:40:40 -0400 (Mon, 31 Mar 2025) EndedAt: 2025-03-31 15:42:11 -0400 (Mon, 31 Mar 2025) EllapsedTime: 90.6 seconds RetCode: 0 Status: OK