Package: ATACseqTFEA Version: 1.8.0 Command: /Library/Frameworks/R.framework/Resources/bin/R CMD check --install=check:ATACseqTFEA.install-out.txt --library=/Library/Frameworks/R.framework/Resources/library --no-vignettes --timings ATACseqTFEA_1.8.0.tar.gz StartedAt: 2025-03-31 23:26:23 -0400 (Mon, 31 Mar 2025) EndedAt: 2025-03-31 23:40:05 -0400 (Mon, 31 Mar 2025) EllapsedTime: 822.0 seconds RetCode: 0 Status: OK CheckDir: ATACseqTFEA.Rcheck Warnings: 0