Package: ATACseqQC Version: 1.30.0 Command: F:\biocbuild\bbs-3.20-bioc\R\bin\R.exe CMD check --no-multiarch --install=check:ATACseqQC.install-out.txt --library=F:\biocbuild\bbs-3.20-bioc\R\library --no-vignettes --timings ATACseqQC_1.30.0.tar.gz StartedAt: 2025-03-31 23:00:20 -0400 (Mon, 31 Mar 2025) EndedAt: 2025-03-31 23:14:08 -0400 (Mon, 31 Mar 2025) EllapsedTime: 828.1 seconds RetCode: 0 Status: OK CheckDir: ATACseqQC.Rcheck Warnings: 0