Package: ASpli Version: 2.16.0 Command: /Library/Frameworks/R.framework/Resources/bin/R CMD INSTALL ASpli StartedAt: 2025-03-31 16:46:07 -0400 (Mon, 31 Mar 2025) EndedAt: 2025-03-31 16:47:17 -0400 (Mon, 31 Mar 2025) EllapsedTime: 70.3 seconds RetCode: 0 Status: OK