Package: ASpli Version: 2.16.0 Command: /Library/Frameworks/R.framework/Resources/bin/R CMD build --keep-empty-dirs --no-resave-data ASpli StartedAt: 2025-03-31 18:47:51 -0400 (Mon, 31 Mar 2025) EndedAt: 2025-03-31 18:51:04 -0400 (Mon, 31 Mar 2025) EllapsedTime: 192.4 seconds RetCode: 0 Status: OK PackageFile: ASpli_2.16.0.tar.gz PackageFileSize: 4.778 MiB