Package: ASURAT Version: 1.10.0 Command: /Library/Frameworks/R.framework/Resources/bin/R CMD build --keep-empty-dirs --no-resave-data ASURAT StartedAt: 2025-03-31 16:57:01 -0400 (Mon, 31 Mar 2025) EndedAt: 2025-03-31 17:30:12 -0400 (Mon, 31 Mar 2025) EllapsedTime: 1991.1 seconds RetCode: 0 Status: OK PackageFile: ASURAT_1.10.0.tar.gz PackageFileSize: 1.739 MiB