Package: ASSIGN Version: 1.42.0 Command: chmod a+r ASSIGN -R && F:\biocbuild\bbs-3.20-bioc\R\bin\R.exe CMD build --keep-empty-dirs --no-resave-data ASSIGN StartedAt: 2025-03-31 17:24:00 -0400 (Mon, 31 Mar 2025) EndedAt: 2025-03-31 17:24:22 -0400 (Mon, 31 Mar 2025) EllapsedTime: 22.1 seconds RetCode: 0 Status: OK PackageFile: ASSIGN_1.42.0.tar.gz PackageFileSize: 1.621 MiB