Package: ASSIGN Version: 1.42.0 Command: /Library/Frameworks/R.framework/Resources/bin/R CMD build --keep-empty-dirs --no-resave-data ASSIGN StartedAt: 2025-03-31 16:56:30 -0400 (Mon, 31 Mar 2025) EndedAt: 2025-03-31 16:56:46 -0400 (Mon, 31 Mar 2025) EllapsedTime: 15.3 seconds RetCode: 0 Status: OK PackageFile: ASSIGN_1.42.0.tar.gz PackageFileSize: 1.621 MiB