Package: ASSET Version: 2.24.0 Command: F:\biocbuild\bbs-3.20-bioc\R\bin\R.exe CMD check --no-multiarch --install=check:ASSET.install-out.txt --library=F:\biocbuild\bbs-3.20-bioc\R\library --no-vignettes --timings ASSET_2.24.0.tar.gz StartedAt: 2025-03-31 22:59:19 -0400 (Mon, 31 Mar 2025) EndedAt: 2025-03-31 23:01:51 -0400 (Mon, 31 Mar 2025) EllapsedTime: 152.3 seconds RetCode: 0 Status: OK CheckDir: ASSET.Rcheck Warnings: 0