Package: ASSET Version: 2.24.0 Command: chmod a+r ASSET -R && F:\biocbuild\bbs-3.20-bioc\R\bin\R.exe CMD build --keep-empty-dirs --no-resave-data ASSET StartedAt: 2025-03-31 17:23:55 -0400 (Mon, 31 Mar 2025) EndedAt: 2025-03-31 17:24:23 -0400 (Mon, 31 Mar 2025) EllapsedTime: 28.3 seconds RetCode: 0 Status: OK PackageFile: ASSET_2.24.0.tar.gz PackageFileSize: 322.1 KiB