Package: ASICS Version: 2.22.0 Command: /home/biocbuild/R/R/bin/R CMD INSTALL ASICS StartedAt: 2025-03-31 21:03:44 -0000 (Mon, 31 Mar 2025) EndedAt: 2025-03-31 21:04:27 -0000 (Mon, 31 Mar 2025) EllapsedTime: 43.0 seconds RetCode: 0 Status: OK