Package: ASICS Version: 2.22.0 Command: F:\biocbuild\bbs-3.20-bioc\R\bin\R.exe CMD INSTALL ASICS StartedAt: 2025-03-31 16:57:41 -0400 (Mon, 31 Mar 2025) EndedAt: 2025-03-31 16:58:44 -0400 (Mon, 31 Mar 2025) EllapsedTime: 62.8 seconds RetCode: 0 Status: OK