Package: ASICS Version: 2.22.0 Command: rm -rf ASICS.buildbin-libdir && mkdir ASICS.buildbin-libdir && F:\biocbuild\bbs-3.20-bioc\R\bin\R.exe CMD INSTALL --build --library=ASICS.buildbin-libdir ASICS_2.22.0.tar.gz StartedAt: 2025-04-01 07:41:20 -0400 (Tue, 01 Apr 2025) EndedAt: 2025-04-01 07:42:30 -0400 (Tue, 01 Apr 2025) EllapsedTime: 69.2 seconds RetCode: 0 Status: OK PackageFile: ASICS_2.22.0.zip PackageFileSize: 4.135 MiB