Package: ASICS Version: 2.22.0 Command: /Library/Frameworks/R.framework/Resources/bin/R CMD INSTALL ASICS StartedAt: 2025-03-31 16:31:21 -0400 (Mon, 31 Mar 2025) EndedAt: 2025-03-31 16:32:32 -0400 (Mon, 31 Mar 2025) EllapsedTime: 71.2 seconds RetCode: 0 Status: OK