Package: ASICS Version: 2.22.0 Command: /Library/Frameworks/R.framework/Resources/bin/R CMD build --keep-empty-dirs --no-resave-data ASICS StartedAt: 2025-03-31 16:55:52 -0400 (Mon, 31 Mar 2025) EndedAt: 2025-03-31 17:02:10 -0400 (Mon, 31 Mar 2025) EllapsedTime: 377.2 seconds RetCode: 0 Status: OK PackageFile: ASICS_2.22.0.tar.gz PackageFileSize: 3.582 MiB