Package: ASICS Version: 2.22.0 Command: rm -rf ASICS.buildbin-libdir && mkdir ASICS.buildbin-libdir && /Users/biocbuild/BBS/utils/build-universal.sh ASICS_2.22.0.tar.gz /Library/Frameworks/R.framework/Resources/bin/R ASICS.buildbin-libdir StartedAt: 2025-04-02 13:19:49 -0400 (Wed, 02 Apr 2025) EndedAt: 2025-04-02 13:20:33 -0400 (Wed, 02 Apr 2025) EllapsedTime: 44.0 seconds RetCode: 0 Status: OK PackageFile: ASICS_2.22.0.tgz PackageFileSize: 4.123 MiB